BEGIN:VCALENDAR
VERSION:2.0
PRODID:-//Open Logistics Foundation - ECPv6.15.13.1//NONSGML v1.0//EN
CALSCALE:GREGORIAN
METHOD:PUBLISH
X-WR-CALNAME:Open Logistics Foundation
X-ORIGINAL-URL:https://openlogisticsfoundation.org
X-WR-CALDESC:Events for Open Logistics Foundation
REFRESH-INTERVAL;VALUE=DURATION:PT1H
X-Robots-Tag:noindex
X-PUBLISHED-TTL:PT1H
BEGIN:VTIMEZONE
TZID:Europe/Berlin
BEGIN:DAYLIGHT
TZOFFSETFROM:+0100
TZOFFSETTO:+0200
TZNAME:CEST
DTSTART:20210328T010000
END:DAYLIGHT
BEGIN:STANDARD
TZOFFSETFROM:+0200
TZOFFSETTO:+0100
TZNAME:CET
DTSTART:20211031T010000
END:STANDARD
BEGIN:DAYLIGHT
TZOFFSETFROM:+0100
TZOFFSETTO:+0200
TZNAME:CEST
DTSTART:20220327T010000
END:DAYLIGHT
BEGIN:STANDARD
TZOFFSETFROM:+0200
TZOFFSETTO:+0100
TZNAME:CET
DTSTART:20221030T010000
END:STANDARD
BEGIN:DAYLIGHT
TZOFFSETFROM:+0100
TZOFFSETTO:+0200
TZNAME:CEST
DTSTART:20230326T010000
END:DAYLIGHT
BEGIN:STANDARD
TZOFFSETFROM:+0200
TZOFFSETTO:+0100
TZNAME:CET
DTSTART:20231029T010000
END:STANDARD
BEGIN:DAYLIGHT
TZOFFSETFROM:+0100
TZOFFSETTO:+0200
TZNAME:CEST
DTSTART:20240331T010000
END:DAYLIGHT
BEGIN:STANDARD
TZOFFSETFROM:+0200
TZOFFSETTO:+0100
TZNAME:CET
DTSTART:20241027T010000
END:STANDARD
BEGIN:DAYLIGHT
TZOFFSETFROM:+0100
TZOFFSETTO:+0200
TZNAME:CEST
DTSTART:20250330T010000
END:DAYLIGHT
BEGIN:STANDARD
TZOFFSETFROM:+0200
TZOFFSETTO:+0100
TZNAME:CET
DTSTART:20251026T010000
END:STANDARD
END:VTIMEZONE
BEGIN:VEVENT
DTSTART;TZID=Europe/Berlin:20240605T093000
DTEND;TZID=Europe/Berlin:20240606T130000
DTSTAMP:20260423T125958
CREATED:20231026T100820Z
LAST-MODIFIED:20240417T133120Z
UID:14073-1717579800-1717678800@openlogisticsfoundation.org
SUMMARY:“Open Source Innovation Days 2024 – Open Logistics Foundation member summit”
DESCRIPTION:Dear partner of Open Logistics Foundation\, \nWe are excited to invite you to the Open Source Innovation Days 2024. As a valued community member\, we would be honoured to have you at our second member summit. We are excited to have our open source front runners and the logistic industry innovators reunite to discuss open source. We will have two days of insightful discussions\, engaging workshops\, and valuable networking opportunities. \nSave the Date:\nJune 5th (full day) and 6th (ending with lunch)\, 2024\nVenue: Spielfeld Digital Hub\, Berlin \nHere’s what you can expect:\n• On day 1: You can look forward to inspirational inputs from industry experts and updates on our open source topics will be presented.\n• On day 2: You can look forward to engaging and practical workshops.\nVisit our Eventbrite page for additional agenda details and updates about our esteemed panellists and workshops. \nTo reserve your place\, please confirm your attendance for one or both days by registering for the event on our Eventbrite page. If you wish to participate in the open source workshop session on day 2\, please also register for the “OSID2024 – Day 2: Workshops & Collaboration” add-on ticket to confirm your participation. \nNB: Bring your colleague! This event is open to all employees of all member companies. Do you know a colleague that might be interested? Who wants to learn more about the Foundation and open source for logistics? No problem – just forward this invitation and have them reserve their spot. \nThank you for your continued support of the Open Logistics Foundation and the logistics and supply chain industry. We look forward to seeing you there!
URL:https://openlogisticsfoundation.org/event/open-source-innovation-day-2024-open-logistics-foundation-member-summit/
LOCATION:Spielfeld Digital Hub\, Skalitzer Straße 85/86\, Berlin\, 10997\, Germany
CATEGORIES:Virtual meeting
END:VEVENT
BEGIN:VEVENT
DTSTART;TZID=Europe/Berlin:20231116T100000
DTEND;TZID=Europe/Berlin:20231116T160000
DTSTAMP:20260423T125958
CREATED:20231019T074355Z
LAST-MODIFIED:20231026T081110Z
UID:14062-1700128800-1700150400@openlogisticsfoundation.org
SUMMARY:Ideation Workshop
DESCRIPTION:Dear partners of the Open Logistics Foundation \nOn 16 November\, we will have our physical Ideation Workshop in Dortmund. This workshop aims to identify the current issues and pain points of our Foundation partners and\, at the same time\, help us understand our new partners’ challenges better. \nEveryone’s ideas and opinions are valuable in developing solutions that move the logistics industry forward.\nTherefore\, we would like to use this workshop to gather your thoughts\, concerns and visions. The workshop will create an engaging and collaborative atmosphere for exchanging ideas.\nTogether\, we’ll identify fresh ideation topics for potential working groups. \nAfter the workshop\, there will be a guided tour of the Fraunhofer Institute for Material Flow and Logistics (IML) in the afternoon. \nWe look forward to your participation and contributions to make this workshop successful. \nYour company is a member of the Open Logistics Foundation? You are interested in joining the workshop? Contact us at members@openlogisticsfoundation.org.
URL:https://openlogisticsfoundation.org/event/ideation-workshop/
LOCATION:BioMedizinZentrumDortmund\, Otto-Hahn-Str. 15\, Dortmund\, 44227\, Germany
CATEGORIES:Virtual meeting
END:VEVENT
BEGIN:VEVENT
DTSTART;TZID=Europe/Berlin:20230531T093000
DTEND;TZID=Europe/Berlin:20230531T200000
DTSTAMP:20260423T125958
CREATED:20230324T114508Z
LAST-MODIFIED:20230324T115117Z
UID:11917-1685525400-1685563200@openlogisticsfoundation.org
SUMMARY:"Open Source Innovation Day 2023 – Open Logistics Foundation member summit"
DESCRIPTION:Dear partner of Open Logistics Foundation\, \nThe Open Logistics Foundation is excited to invite you to the first Open Source Innovation Day 2023. As a valued member of our community\, we would be honoured to have you there\, at our member summit: Experience the first in-person contact with like-minded individuals in our community and industry. This event is an opportunity for us all to share ideas\, insights\, inspiration and progress on our open source topics. \nYou can look forward to:\n– Getting an exclusive preview of all the exciting projects we have been working on such as the Working Groups’ Statuts Quo\, Vision\, and How-To.\n– Insights on open source topics: The Future of Logistics // OS from organisational\, legal and technical perspectives // user-driven communities\n– Engaging and networking with logistics and OS experts\n– Sharing experiences during the afterwork event \nFind the event’s full agenda on our Eventbrite page. \nOur featured speakers:\n  – Prof. Dr. Dr. h. c. Michael ten Hompel\, Managing Director of Fraunhofer IML\n  – Dr. David Saive\, LL.M\, Managing Director of Tug & Tow UG\n  – Marcel Scholze\, Director of Open Source Software Services & IT Sourcing at PwC Germany\n  – Prof. Dr. Dirk Riehle\, Professor of Computer Science at the University of Erlangen \nWe would appreciate it if you would RSVP by 15th April 2023. Please confirm your attendance by signing up via this link to reserve your spot. Note that this is a free event\, and we only have 100 spots. Be sure to book your spot ASAP. \nNB: Bring your colleague! This event is open to all employees of all member companies. Do you know a colleague that might be interested? Who wants to learn more about the Foundation and open source for logistics? No problem – just forward this invitation\, and have them reserve their spot. \nThank you for your continued support of the Open Logistics Foundation\, and of the logistics and supply chain industry. We look forward to seeing you there! \nLearn more
URL:https://openlogisticsfoundation.org/event/open-source-innovation-day-2023-open-logistics-foundation-member-summit/
LOCATION:Spielfeld Digital Hub\, Skalitzer Straße 85/86\, Berlin\, 10997\, Germany
CATEGORIES:Virtual meeting
END:VEVENT
BEGIN:VEVENT
DTSTART;TZID=Europe/Berlin:20230330T150000
DTEND;TZID=Europe/Berlin:20230330T160000
DTSTAMP:20260423T125958
CREATED:20230315T133451Z
LAST-MODIFIED:20230315T133451Z
UID:11866-1680188400-1680192000@openlogisticsfoundation.org
SUMMARY:Workshop "Train and Wagon"
DESCRIPTION:The Open Logistics Foundation invites all members of the community to this virtual event. It is part of our internal ideation process – with the aim to jointly develop open source solutions for logistical problems. \n  \nAll members are invited to join. Contact the Head Office team for any questions.
URL:https://openlogisticsfoundation.org/event/workshop-train-and-wagon/
LOCATION:virtual
CATEGORIES:Virtual meeting
END:VEVENT
BEGIN:VEVENT
DTSTART;TZID=Europe/Berlin:20230321T100000
DTEND;TZID=Europe/Berlin:20230321T110000
DTSTAMP:20260423T125958
CREATED:20230315T132950Z
LAST-MODIFIED:20230315T132950Z
UID:11864-1679392800-1679396400@openlogisticsfoundation.org
SUMMARY:Workshop "Driver App"
DESCRIPTION:The Open Logistics Foundation invites all members of the community to this virtual event. It is part of our internal ideation process – with the aim to jointly develop open source solutions for logistical problems. \n  \nAll members are invited to join. Contact the Head Office team for any questions.
URL:https://openlogisticsfoundation.org/event/workshop-driver-app-2/
LOCATION:virtual
CATEGORIES:Virtual meeting
END:VEVENT
BEGIN:VEVENT
DTSTART;TZID=Europe/Berlin:20230206T100000
DTEND;TZID=Europe/Berlin:20230206T113000
DTSTAMP:20260423T125958
CREATED:20230131T105150Z
LAST-MODIFIED:20230131T105150Z
UID:10882-1675677600-1675683000@openlogisticsfoundation.org
SUMMARY:Workshop "Driver App"
DESCRIPTION:The Open Logistics Foundation invites all members of the community to this virtual event. It is part of our internal ideation process – with the aim to jointly develop open source solutions for logistical problems. \n  \nAll community members will receive a personal invitation and access to this event.
URL:https://openlogisticsfoundation.org/event/workshop-driver-app/
LOCATION:digital
CATEGORIES:Virtual meeting
END:VEVENT
BEGIN:VEVENT
DTSTART;TZID=Europe/Berlin:20230125T093000
DTEND;TZID=Europe/Berlin:20230125T113000
DTSTAMP:20260423T125958
CREATED:20221108T141859Z
LAST-MODIFIED:20221108T141940Z
UID:10552-1674639000-1674646200@openlogisticsfoundation.org
SUMMARY:Workshop "ETA / Forecasting"
DESCRIPTION:The Open Logistics Foundation invites all members of the community to this virtual event. It is part of our internal ideation process – with the aim to jointly develop open source solutions for logistical problems. \n  \nAll community members will receive a personal invitation and access to this event.
URL:https://openlogisticsfoundation.org/event/workshop-eta-forecasting/
LOCATION:digital
CATEGORIES:Virtual meeting
END:VEVENT
BEGIN:VEVENT
DTSTART;TZID=Europe/Berlin:20221215T103000
DTEND;TZID=Europe/Berlin:20221215T123000
DTSTAMP:20260423T125958
CREATED:20221121T082947Z
LAST-MODIFIED:20221121T082947Z
UID:10634-1671100200-1671107400@openlogisticsfoundation.org
SUMMARY:Workshop "customs"
DESCRIPTION:The Open Logistics Foundation invites all members of the community to this virtual event. It is part of our internal ideation process – with the aim to jointly develop open source solutions for logistical problems. \n  \nAll community members will receive a personal invitation and access to this event.
URL:https://openlogisticsfoundation.org/event/workshop-customs/
LOCATION:digital
CATEGORIES:Virtual meeting
END:VEVENT
BEGIN:VEVENT
DTSTART;TZID=Europe/Berlin:20221130T095000
DTEND;TZID=Europe/Berlin:20221130T113000
DTSTAMP:20260423T125958
CREATED:20221108T142023Z
LAST-MODIFIED:20221108T142023Z
UID:10550-1669801800-1669807800@openlogisticsfoundation.org
SUMMARY:Workshop "track and trace"
DESCRIPTION:The Open Logistics Foundation invites all members of the community to this virtual event. It is part of our internal ideation process – with the aim to jointly develop open source solutions for logistical problems. \n  \nAll community members will receive a personal invitation and access to this event.
URL:https://openlogisticsfoundation.org/event/workshop-track-and-trace/
LOCATION:digital
CATEGORIES:Virtual meeting
END:VEVENT
BEGIN:VEVENT
DTSTART;TZID=Europe/Berlin:20221128T093000
DTEND;TZID=Europe/Berlin:20221128T113000
DTSTAMP:20260423T125958
CREATED:20221108T142049Z
LAST-MODIFIED:20221108T142049Z
UID:10548-1669627800-1669635000@openlogisticsfoundation.org
SUMMARY:Workshop "train and wagon information"
DESCRIPTION:The Open Logistics Foundation invites all members of the community to this virtual event. It is part of our internal ideation process – with the aim to jointly develop open source solutions for logistical problems. \n  \nAll community members will receive a personal invitation and access to this event.
URL:https://openlogisticsfoundation.org/event/workshop-train-and-wagon-information/
LOCATION:digital
CATEGORIES:Virtual meeting
END:VEVENT
BEGIN:VEVENT
DTSTART;TZID=Europe/Berlin:20221123T110000
DTEND;TZID=Europe/Berlin:20221123T123000
DTSTAMP:20260423T125958
CREATED:20220914T163214Z
LAST-MODIFIED:20221005T082631Z
UID:9865-1669201200-1669206600@openlogisticsfoundation.org
SUMMARY:Get the news: Community-Update
DESCRIPTION:The Open Logistics Foundation invites all members of the community to a digital update event on 23 November 2022. The head office will inform about current developments and project approaches. Participants can discuss and clarify open questions and contribute their own ideas. In addition\, the new members will be introduced. \nAll community members will receive a personal invitation and access to this event.
URL:https://openlogisticsfoundation.org/event/get-the-news-community-update/
LOCATION:digital
CATEGORIES:Virtual meeting
END:VEVENT
BEGIN:VEVENT
DTSTART;TZID=Europe/Berlin:20220928T093000
DTEND;TZID=Europe/Berlin:20220928T233000
DTSTAMP:20260423T125958
CREATED:20220718T144054Z
LAST-MODIFIED:20220804T120744Z
UID:2520-1664357400-1664407800@openlogisticsfoundation.org
SUMMARY:First ordinary general meeting of the Open Logistics e. V.
DESCRIPTION:The Open Logistics e. V.\, the Support Association of the Open Logistics Foundation\, invites its members to its first ordinary general meeting. It will take place on 28 September as a teams meeting. \nDuring the digital event\, the Board of the Support Association will inform about the activities of the past and current year. The agenda will include – in addition to various regularities – an overview of the membership structure and the Foundation’s innovation ecosystem. Furthermore\, current thematic developments within the Open Logistics Foundation will be explained. \nParticipation in the event is reserved for members of the Open Logistics e. V.
URL:https://openlogisticsfoundation.org/event/members-meeting/
LOCATION:digital
CATEGORIES:Virtual meeting
ATTACH;FMTTYPE=image/jpeg:https://openlogisticsfoundation.org/wp-content/uploads/Foto-News_Vorstand.jpg
END:VEVENT
BEGIN:VEVENT
DTSTART;TZID=Europe/Berlin:20220809T100000
DTEND;TZID=Europe/Berlin:20220809T143000
DTSTAMP:20260423T125958
CREATED:20220718T143139Z
LAST-MODIFIED:20220726T144642Z
UID:2508-1660039200-1660055400@openlogisticsfoundation.org
SUMMARY:Ideation Workshop 2022
DESCRIPTION:The Open Logistics Foundation invites the members of the Support Association Open Logistics e. V. to the first Ideation Workshop 2022 under the motto “Open minds for open source in logistics”. The work on eCMR is already progressing successfully\, the network is growing\, and there are many new starting points in terms of content: this momentum is to be used to work on the next thematic focal points and concrete OS project ideas in an ideation workshop. \nThe workshop will take place at Rhenus Logistics in Holzwickede. The invitation has already been sent out. Representatives of member companies who did not receive a personal invitation\, but are interested in attending the workshop are welcome to contact Carina Tüllmann\, Marketing and Communications\, carina.tuellmann@openlogisticsfoundation.org. \nThe workshop is supported by the Digital Hub Logistics\, partner of the Open Logistics Foundation.
URL:https://openlogisticsfoundation.org/event/open-logistics-foundation-invites-members-to-ideation-workshop/
LOCATION:Rhenus Logistics\, Holzwickede\, Rhenus-Platz 1\, Holzwickede\, NRW\, 59439\, Germany
CATEGORIES:Virtual meeting
END:VEVENT
END:VCALENDAR