BEGIN:VCALENDAR
VERSION:2.0
PRODID:-//Open Logistics Foundation - ECPv6.15.13.1//NONSGML v1.0//EN
CALSCALE:GREGORIAN
METHOD:PUBLISH
X-ORIGINAL-URL:https://openlogisticsfoundation.org
X-WR-CALDESC:Events for Open Logistics Foundation
REFRESH-INTERVAL;VALUE=DURATION:PT1H
X-Robots-Tag:noindex
X-PUBLISHED-TTL:PT1H
BEGIN:VTIMEZONE
TZID:Europe/Berlin
BEGIN:DAYLIGHT
TZOFFSETFROM:+0100
TZOFFSETTO:+0200
TZNAME:CEST
DTSTART:20250330T010000
END:DAYLIGHT
BEGIN:STANDARD
TZOFFSETFROM:+0200
TZOFFSETTO:+0100
TZNAME:CET
DTSTART:20251026T010000
END:STANDARD
BEGIN:DAYLIGHT
TZOFFSETFROM:+0100
TZOFFSETTO:+0200
TZNAME:CEST
DTSTART:20260329T010000
END:DAYLIGHT
BEGIN:STANDARD
TZOFFSETFROM:+0200
TZOFFSETTO:+0100
TZNAME:CET
DTSTART:20261025T010000
END:STANDARD
BEGIN:DAYLIGHT
TZOFFSETFROM:+0100
TZOFFSETTO:+0200
TZNAME:CEST
DTSTART:20270328T010000
END:DAYLIGHT
BEGIN:STANDARD
TZOFFSETFROM:+0200
TZOFFSETTO:+0100
TZNAME:CET
DTSTART:20271031T010000
END:STANDARD
END:VTIMEZONE
BEGIN:VEVENT
DTSTART;TZID=Europe/Berlin:20260320T100000
DTEND;TZID=Europe/Berlin:20260320T110000
DTSTAMP:20260421T145138
CREATED:20260113T135201Z
LAST-MODIFIED:20260113T135201Z
UID:34971-1774000800-1774004400@openlogisticsfoundation.org
SUMMARY:Virtual Member Update OLF
DESCRIPTION:Dear Open Logistics Foundation partners\, \nWe would like to invite you to the annual\, informal OLF spring update! \nThe Head Office team will provide an overview of \n\nthe current ideation topics\, Working Groups\, projects\, use cases and results.\nupcoming events and cooperation opportunities.\nan update on the Open Source Innovation Days.\nmuch more!\n\nWe look forward to meeting you virtually! \nPlease note that this event is exclusively for OLF members and is not open to the public.
URL:https://openlogisticsfoundation.org/event/virtual-member-update-olf/
LOCATION:virtual
CATEGORIES:Virtual meeting
ATTACH;FMTTYPE=image/jpeg:https://openlogisticsfoundation.org/wp-content/uploads/boards-committees-flagge.jpg
END:VEVENT
END:VCALENDAR