BEGIN:VCALENDAR
VERSION:2.0
PRODID:-//Open Logistics Foundation - ECPv6.15.13.1//NONSGML v1.0//EN
CALSCALE:GREGORIAN
METHOD:PUBLISH
X-WR-CALNAME:Open Logistics Foundation
X-ORIGINAL-URL:https://openlogisticsfoundation.org
X-WR-CALDESC:Events for Open Logistics Foundation
REFRESH-INTERVAL;VALUE=DURATION:PT1H
X-Robots-Tag:noindex
X-PUBLISHED-TTL:PT1H
BEGIN:VTIMEZONE
TZID:Europe/Berlin
BEGIN:DAYLIGHT
TZOFFSETFROM:+0100
TZOFFSETTO:+0200
TZNAME:CEST
DTSTART:20240331T010000
END:DAYLIGHT
BEGIN:STANDARD
TZOFFSETFROM:+0200
TZOFFSETTO:+0100
TZNAME:CET
DTSTART:20241027T010000
END:STANDARD
BEGIN:DAYLIGHT
TZOFFSETFROM:+0100
TZOFFSETTO:+0200
TZNAME:CEST
DTSTART:20250330T010000
END:DAYLIGHT
BEGIN:STANDARD
TZOFFSETFROM:+0200
TZOFFSETTO:+0100
TZNAME:CET
DTSTART:20251026T010000
END:STANDARD
BEGIN:DAYLIGHT
TZOFFSETFROM:+0100
TZOFFSETTO:+0200
TZNAME:CEST
DTSTART:20260329T010000
END:DAYLIGHT
BEGIN:STANDARD
TZOFFSETFROM:+0200
TZOFFSETTO:+0100
TZNAME:CET
DTSTART:20261025T010000
END:STANDARD
END:VTIMEZONE
BEGIN:VTIMEZONE
TZID:Europe/Stockholm
BEGIN:DAYLIGHT
TZOFFSETFROM:+0100
TZOFFSETTO:+0200
TZNAME:CEST
DTSTART:20240331T010000
END:DAYLIGHT
BEGIN:STANDARD
TZOFFSETFROM:+0200
TZOFFSETTO:+0100
TZNAME:CET
DTSTART:20241027T010000
END:STANDARD
BEGIN:DAYLIGHT
TZOFFSETFROM:+0100
TZOFFSETTO:+0200
TZNAME:CEST
DTSTART:20250330T010000
END:DAYLIGHT
BEGIN:STANDARD
TZOFFSETFROM:+0200
TZOFFSETTO:+0100
TZNAME:CET
DTSTART:20251026T010000
END:STANDARD
BEGIN:DAYLIGHT
TZOFFSETFROM:+0100
TZOFFSETTO:+0200
TZNAME:CEST
DTSTART:20260329T010000
END:DAYLIGHT
BEGIN:STANDARD
TZOFFSETFROM:+0200
TZOFFSETTO:+0100
TZNAME:CET
DTSTART:20261025T010000
END:STANDARD
END:VTIMEZONE
BEGIN:VEVENT
DTSTART;TZID=Europe/Berlin:20250902T140000
DTEND;TZID=Europe/Berlin:20250902T150000
DTSTAMP:20260421T232749
CREATED:20250525T121817Z
LAST-MODIFIED:20250808T062037Z
UID:31837-1756821600-1756825200@openlogisticsfoundation.org
SUMMARY:OLF-eCMR Q&A Hour
DESCRIPTION:The Open Logistics Foundation invites you to learn more about the launch and implementation of the open source “OLF-eCMR” software. After we proudly released the first version of our open source eCMR solution – developed by companies\, for companies – we’re inviting you to a live Q&A session with our Technical Advisor Jens Leveling\, also Lead Software Architect at Fraunhofer IML. This is your opportunity to learn more\, ask questions\, and explore how you can implement the software in your own operations. \nWhat to expect at the Q&A Hour: \n\nThe session will begin with a brief introduction to the eCMR solution and its development background.\nWe’ll then walk through its core features and real-world use cases\, followed by expert insights into especially the technical aspects of implementation.\nTo close\, you’ll have the opportunity to ask your questions and engage directly with our team in an open discussion.\n\nThis event will be held in English. \nCan’t make this date? You can register for our alternative date on 30 October 2025.
URL:https://openlogisticsfoundation.org/event/ecmr-qa-hour-3/
LOCATION:virtual
CATEGORIES:Virtual meeting
ATTACH;FMTTYPE=image/jpeg:https://openlogisticsfoundation.org/wp-content/uploads/ecmr-keyvisual.jpg
END:VEVENT
BEGIN:VEVENT
DTSTART;TZID=Europe/Berlin:20250911T150000
DTEND;TZID=Europe/Berlin:20250911T163000
DTSTAMP:20260421T232749
CREATED:20250729T055948Z
LAST-MODIFIED:20250801T065255Z
UID:34347-1757602800-1757608200@openlogisticsfoundation.org
SUMMARY:Webinar “Open Source: an opportunity for Italian logistics”
DESCRIPTION:TTS Italia and the Open Logistics Foundation (OLF) have partnered to contribute to the development of open source components and services for logistics and supply chain management. The aim is to introduce a relatively new concept to the logistics sector in Italy\, encouraging dialogue between stakeholders and establishing shared positions and activities. As part of this collaboration\, TTS Italia and the Open Logistics Foundation are organising a webinar titled ‘Open Source: An Opportunity for Italian Logistics’\, which will explore the topic of open source in logistics in depth and will be held fully in English. \nAndreas Nettsträter\, the CEO of the Open Logistics Foundation\, will introduce the topic of open source in logistics and the concept of the Foundation. He will be joined by Boris Jeggle\, Managing Director of Rhenus 4PL Solutions\, who will share insights into his company’s perspective on collaborating on open source solutions within the OLF. Furthermore\, Paola Cossu\, CEO of FIT Consulting\, will explain why collaborating on open source solutions for logistics is beneficial for Italian logistics and why the Open Logistics Foundation is a suitable option. \nFind out more about the agenda and how to sign up on their website. \n 
URL:https://openlogisticsfoundation.org/event/webinar-open-source-an-opportunity-for-italian-logistics/
LOCATION:virtual
CATEGORIES:Virtual meeting
ATTACH;FMTTYPE=image/jpeg:https://openlogisticsfoundation.org/wp-content/uploads/stiftung-introbild-2.jpg
END:VEVENT
BEGIN:VEVENT
DTSTART;TZID=Europe/Stockholm:20250925T150000
DTEND;TZID=Europe/Stockholm:20250925T160000
DTSTAMP:20260421T232749
CREATED:20250821T111602Z
LAST-MODIFIED:20250821T111602Z
UID:34405-1758812400-1758816000@openlogisticsfoundation.org
SUMMARY:Webinar: Open Logistics Foundation at CLOSER
DESCRIPTION:In this webinar\, the Open Logistics Foundation (OLF) and its member\, DACHSER\, will show you how openly developed\, shared software solutions are transforming supply chains to be more efficient\, sustainable\, and future-ready. \nYou’ll gain practical insights into how open source tools from the Foundation can be integrated into your own operations — helping you reduce duplication of work\, cut costs\, and innovate faster. Learn directly from industry leaders how collaborative development benefits the entire logistics sector and how you can be part of shaping these solutions. \nAndreas Nettsträter\, the CEO of the Open Logistics Foundation\, will introduce the topic of open source in logistics and the concept of the Foundation. He will be joined by Ingo Müller\,  Department Head Prototyping & Testing at DACHSER SE\, who will share insights into his company’s perspective on collaborating on open source solutions within the OLF and DACHSER’s motivation to join. \nFind out more about the agenda and how to sign up on their website.
URL:https://openlogisticsfoundation.org/event/webinar-open-logistics-foundation-at-closer/
LOCATION:virtual
CATEGORIES:Virtual meeting
ATTACH;FMTTYPE=image/jpeg:https://openlogisticsfoundation.org/wp-content/uploads/we-create-open-source.jpg
END:VEVENT
END:VCALENDAR