BEGIN:VCALENDAR
VERSION:2.0
PRODID:-//Open Logistics Foundation - ECPv6.15.13.1//NONSGML v1.0//EN
CALSCALE:GREGORIAN
METHOD:PUBLISH
X-WR-CALNAME:Open Logistics Foundation
X-ORIGINAL-URL:https://openlogisticsfoundation.org
X-WR-CALDESC:Events for Open Logistics Foundation
REFRESH-INTERVAL;VALUE=DURATION:PT1H
X-Robots-Tag:noindex
X-PUBLISHED-TTL:PT1H
BEGIN:VTIMEZONE
TZID:Europe/Berlin
BEGIN:DAYLIGHT
TZOFFSETFROM:+0100
TZOFFSETTO:+0200
TZNAME:CEST
DTSTART:20240331T010000
END:DAYLIGHT
BEGIN:STANDARD
TZOFFSETFROM:+0200
TZOFFSETTO:+0100
TZNAME:CET
DTSTART:20241027T010000
END:STANDARD
BEGIN:DAYLIGHT
TZOFFSETFROM:+0100
TZOFFSETTO:+0200
TZNAME:CEST
DTSTART:20250330T010000
END:DAYLIGHT
BEGIN:STANDARD
TZOFFSETFROM:+0200
TZOFFSETTO:+0100
TZNAME:CET
DTSTART:20251026T010000
END:STANDARD
BEGIN:DAYLIGHT
TZOFFSETFROM:+0100
TZOFFSETTO:+0200
TZNAME:CEST
DTSTART:20260329T010000
END:DAYLIGHT
BEGIN:STANDARD
TZOFFSETFROM:+0200
TZOFFSETTO:+0100
TZNAME:CET
DTSTART:20261025T010000
END:STANDARD
END:VTIMEZONE
BEGIN:VEVENT
DTSTART;TZID=Europe/Berlin:20250624T100000
DTEND;TZID=Europe/Berlin:20250624T110000
DTSTAMP:20260422T044421
CREATED:20250525T121040Z
LAST-MODIFIED:20250612T093211Z
UID:31821-1750759200-1750762800@openlogisticsfoundation.org
SUMMARY:OLF-eCMR Q&A Hour
DESCRIPTION:The Open Logistics Foundation invites you to learn more about the launch and implementation of the open source “OLF-eCMR” software. After we proudly released the first version of our open source eCMR solution – developed by companies\, for companies – we’re inviting you to a live Q&A session with our Technical Advisor Jens Leveling\, also Lead Software Architect at Fraunhofer IML. This is your opportunity to learn more\, ask questions\, and explore how you can implement the software in your own operations. \nWhat to expect at the Q&A Hour: \n\nThe session will begin with a brief introduction to the eCMR solution and its development background.\nWe’ll then walk through its core features and real-world use cases\, followed by expert insights into especially the technical aspects of implementation.\nTo close\, you’ll have the opportunity to ask your questions and engage directly with our team in an open discussion.\n\nIf you can’t make it on that date\, you’re welcome to join us on one of the two alternative dates: 8 July 2025 at 15:00 or 2 September 2025 at 14:00.
URL:https://openlogisticsfoundation.org/event/ecmr-qa-hour/
CATEGORIES:Virtual meeting
ATTACH;FMTTYPE=image/jpeg:https://openlogisticsfoundation.org/wp-content/uploads/ecmr-keyvisual.jpg
END:VEVENT
END:VCALENDAR