BEGIN:VCALENDAR
VERSION:2.0
PRODID:-//Open Logistics Foundation - ECPv6.15.13.1//NONSGML v1.0//EN
CALSCALE:GREGORIAN
METHOD:PUBLISH
X-WR-CALNAME:Open Logistics Foundation
X-ORIGINAL-URL:https://openlogisticsfoundation.org
X-WR-CALDESC:Events for Open Logistics Foundation
REFRESH-INTERVAL;VALUE=DURATION:PT1H
X-Robots-Tag:noindex
X-PUBLISHED-TTL:PT1H
BEGIN:VTIMEZONE
TZID:Europe/Berlin
BEGIN:DAYLIGHT
TZOFFSETFROM:+0100
TZOFFSETTO:+0200
TZNAME:CEST
DTSTART:20230326T010000
END:DAYLIGHT
BEGIN:STANDARD
TZOFFSETFROM:+0200
TZOFFSETTO:+0100
TZNAME:CET
DTSTART:20231029T010000
END:STANDARD
BEGIN:DAYLIGHT
TZOFFSETFROM:+0100
TZOFFSETTO:+0200
TZNAME:CEST
DTSTART:20240331T010000
END:DAYLIGHT
BEGIN:STANDARD
TZOFFSETFROM:+0200
TZOFFSETTO:+0100
TZNAME:CET
DTSTART:20241027T010000
END:STANDARD
BEGIN:DAYLIGHT
TZOFFSETFROM:+0100
TZOFFSETTO:+0200
TZNAME:CEST
DTSTART:20250330T010000
END:DAYLIGHT
BEGIN:STANDARD
TZOFFSETFROM:+0200
TZOFFSETTO:+0100
TZNAME:CET
DTSTART:20251026T010000
END:STANDARD
END:VTIMEZONE
BEGIN:VEVENT
DTSTART;TZID=Europe/Berlin:20240605T093000
DTEND;TZID=Europe/Berlin:20240606T130000
DTSTAMP:20260420T125052
CREATED:20231026T100820Z
LAST-MODIFIED:20240417T133120Z
UID:14073-1717579800-1717678800@openlogisticsfoundation.org
SUMMARY:“Open Source Innovation Days 2024 – Open Logistics Foundation member summit”
DESCRIPTION:Dear partner of Open Logistics Foundation\, \nWe are excited to invite you to the Open Source Innovation Days 2024. As a valued community member\, we would be honoured to have you at our second member summit. We are excited to have our open source front runners and the logistic industry innovators reunite to discuss open source. We will have two days of insightful discussions\, engaging workshops\, and valuable networking opportunities. \nSave the Date:\nJune 5th (full day) and 6th (ending with lunch)\, 2024\nVenue: Spielfeld Digital Hub\, Berlin \nHere’s what you can expect:\n• On day 1: You can look forward to inspirational inputs from industry experts and updates on our open source topics will be presented.\n• On day 2: You can look forward to engaging and practical workshops.\nVisit our Eventbrite page for additional agenda details and updates about our esteemed panellists and workshops. \nTo reserve your place\, please confirm your attendance for one or both days by registering for the event on our Eventbrite page. If you wish to participate in the open source workshop session on day 2\, please also register for the “OSID2024 – Day 2: Workshops & Collaboration” add-on ticket to confirm your participation. \nNB: Bring your colleague! This event is open to all employees of all member companies. Do you know a colleague that might be interested? Who wants to learn more about the Foundation and open source for logistics? No problem – just forward this invitation and have them reserve their spot. \nThank you for your continued support of the Open Logistics Foundation and the logistics and supply chain industry. We look forward to seeing you there!
URL:https://openlogisticsfoundation.org/event/open-source-innovation-day-2024-open-logistics-foundation-member-summit/
LOCATION:Spielfeld Digital Hub\, Skalitzer Straße 85/86\, Berlin\, 10997\, Germany
CATEGORIES:Virtual meeting
END:VEVENT
END:VCALENDAR