BEGIN:VCALENDAR
VERSION:2.0
PRODID:-//Open Logistics Foundation - ECPv6.15.13.1//NONSGML v1.0//EN
CALSCALE:GREGORIAN
METHOD:PUBLISH
X-WR-CALNAME:Open Logistics Foundation
X-ORIGINAL-URL:https://openlogisticsfoundation.org
X-WR-CALDESC:Events for Open Logistics Foundation
REFRESH-INTERVAL;VALUE=DURATION:PT1H
X-Robots-Tag:noindex
X-PUBLISHED-TTL:PT1H
BEGIN:VTIMEZONE
TZID:Europe/Berlin
BEGIN:DAYLIGHT
TZOFFSETFROM:+0100
TZOFFSETTO:+0200
TZNAME:CEST
DTSTART:20250330T010000
END:DAYLIGHT
BEGIN:STANDARD
TZOFFSETFROM:+0200
TZOFFSETTO:+0100
TZNAME:CET
DTSTART:20251026T010000
END:STANDARD
BEGIN:DAYLIGHT
TZOFFSETFROM:+0100
TZOFFSETTO:+0200
TZNAME:CEST
DTSTART:20260329T010000
END:DAYLIGHT
BEGIN:STANDARD
TZOFFSETFROM:+0200
TZOFFSETTO:+0100
TZNAME:CET
DTSTART:20261025T010000
END:STANDARD
BEGIN:DAYLIGHT
TZOFFSETFROM:+0100
TZOFFSETTO:+0200
TZNAME:CEST
DTSTART:20270328T010000
END:DAYLIGHT
BEGIN:STANDARD
TZOFFSETFROM:+0200
TZOFFSETTO:+0100
TZNAME:CET
DTSTART:20271031T010000
END:STANDARD
END:VTIMEZONE
BEGIN:VEVENT
DTSTART;VALUE=DATE:20261006
DTEND;VALUE=DATE:20261007
DTSTAMP:20260420T144805
CREATED:20260414T084813Z
LAST-MODIFIED:20260414T084813Z
UID:35512-1791244800-1791331199@openlogisticsfoundation.org
SUMMARY:Mindtrek Conference 2026
DESCRIPTION:Mindtrek Conference is an international technology conference organized annually\, offering a horizontal view into the field of future technology. It’s all about networking and exchanging ideas with people who come from different backgrounds and who have different areas of expertise. \nIn 2026\, the Mindtrek Conference program will be yet again dedicated to the future of OpenTech\, embracing: \n\nopen source software\,\nopen data\,\nopen APIs\,\nopen standards… and more!\n\nDive into the heart of open innovation with sessions on the vast landscape of OpenTech: innovative open source solutions\, governance and public sector use cases\, active communities and collaborative breakthroughs. At Mindtrek Conference you can engage and network with leaders\, innovators and advocates who are shaping the world of technology through openness and shared knowledge. \nLearn more about the agenda and how to sign up on their website.
URL:https://openlogisticsfoundation.org/event/mindtrek-conference-2026/
LOCATION:Finnkino Cine Atlas\, Hatanpään valtatie 1\, Tampere\, 33100\, Finland
ATTACH;FMTTYPE=image/jpeg:https://openlogisticsfoundation.org/wp-content/uploads/Mindtrek-Conference-2026.jpg
END:VEVENT
END:VCALENDAR